BEGIN:VCALENDAR
VERSION:2.0
PRODID:-//Heart of the Civil War - ECPv6.15.20//NONSGML v1.0//EN
CALSCALE:GREGORIAN
METHOD:PUBLISH
X-WR-CALNAME:Heart of the Civil War
X-ORIGINAL-URL:https://heartofthecivilwar.org
X-WR-CALDESC:Events for Heart of the Civil War
REFRESH-INTERVAL;VALUE=DURATION:PT1H
X-Robots-Tag:noindex
X-PUBLISHED-TTL:PT1H
BEGIN:VTIMEZONE
TZID:America/New_York
BEGIN:DAYLIGHT
TZOFFSETFROM:-0500
TZOFFSETTO:-0400
TZNAME:EDT
DTSTART:20250309T070000
END:DAYLIGHT
BEGIN:STANDARD
TZOFFSETFROM:-0400
TZOFFSETTO:-0500
TZNAME:EST
DTSTART:20251102T060000
END:STANDARD
BEGIN:DAYLIGHT
TZOFFSETFROM:-0500
TZOFFSETTO:-0400
TZNAME:EDT
DTSTART:20260308T070000
END:DAYLIGHT
BEGIN:STANDARD
TZOFFSETFROM:-0400
TZOFFSETTO:-0500
TZNAME:EST
DTSTART:20261101T060000
END:STANDARD
BEGIN:DAYLIGHT
TZOFFSETFROM:-0500
TZOFFSETTO:-0400
TZNAME:EDT
DTSTART:20270314T070000
END:DAYLIGHT
BEGIN:STANDARD
TZOFFSETFROM:-0400
TZOFFSETTO:-0500
TZNAME:EST
DTSTART:20271107T060000
END:STANDARD
END:VTIMEZONE
BEGIN:VEVENT
DTSTART;TZID=America/New_York:20260411T120000
DTEND;TZID=America/New_York:20260411T120000
DTSTAMP:20260424T164335
CREATED:20260109T213940Z
LAST-MODIFIED:20260109T213940Z
UID:10000464-1775908800-1775908800@heartofthecivilwar.org
SUMMARY:Emmitsburg: From Way Back When to Now
DESCRIPTION:Join the Daughters of Charity Provincial Archives for their special exhibit on the history of Emmitsburg\, the town they have called home since Mother Seton’s arrival in 1809! From its humble founding in 1785 through the Civil War\, the founding of Mount St. Mary’s and St. Joseph Colleges\, the rise and fall of the railroad\, and its place of distinction among America’s firefighters\, Emmitsburg has a story far larger than its small size. Opening Saturday April 11\, 2026 through the holiday season 2027.
URL:https://heartofthecivilwar.org/event/emmitsburg-from-way-back-when-to-now/
LOCATION:National Shrine of Saint Elizabeth Ann Seton\, 339 S Seton Ave\, Emmitsburg\, MD\, 21727
CATEGORIES:Ongoing
ATTACH;FMTTYPE=image/jpeg:https://heartofthecivilwar.org/wp-content/uploads/2026/01/69610ef746791-scaled-e1767994602458.jpg
END:VEVENT
END:VCALENDAR