BEGIN:VCALENDAR
VERSION:2.0
PRODID:-//Heart of the Civil War - ECPv6.15.20//NONSGML v1.0//EN
CALSCALE:GREGORIAN
METHOD:PUBLISH
X-WR-CALNAME:Heart of the Civil War
X-ORIGINAL-URL:https://heartofthecivilwar.org
X-WR-CALDESC:Events for Heart of the Civil War
REFRESH-INTERVAL;VALUE=DURATION:PT1H
X-Robots-Tag:noindex
X-PUBLISHED-TTL:PT1H
BEGIN:VTIMEZONE
TZID:UTC
BEGIN:STANDARD
TZOFFSETFROM:+0000
TZOFFSETTO:+0000
TZNAME:UTC
DTSTART:20240101T000000
END:STANDARD
END:VTIMEZONE
BEGIN:VEVENT
DTSTART;TZID=UTC:20250506T080000
DTEND;TZID=UTC:20250506T170000
DTSTAMP:20260425T123251
CREATED:20250416T043843Z
LAST-MODIFIED:20250416T043843Z
UID:10000006-1746518400-1746550800@heartofthecivilwar.org
SUMMARY:Tour Event Test
DESCRIPTION:This is a test of making a “Tour” category event.
URL:https://heartofthecivilwar.org/event/tour-event-test/
LOCATION:Brewer’s Alley Restaurant and Brewery\, 124 North Market Street\, Frederick\, 21701\, United States
CATEGORIES:Tours
END:VEVENT
END:VCALENDAR