BEGIN:VCALENDAR
VERSION:2.0
PRODID:-//Heart of the Civil War - ECPv6.15.20//NONSGML v1.0//EN
CALSCALE:GREGORIAN
METHOD:PUBLISH
X-ORIGINAL-URL:https://heartofthecivilwar.org
X-WR-CALDESC:Events for Heart of the Civil War
REFRESH-INTERVAL;VALUE=DURATION:PT1H
X-Robots-Tag:noindex
X-PUBLISHED-TTL:PT1H
BEGIN:VTIMEZONE
TZID:America/New_York
BEGIN:DAYLIGHT
TZOFFSETFROM:-0500
TZOFFSETTO:-0400
TZNAME:EDT
DTSTART:20250309T070000
END:DAYLIGHT
BEGIN:STANDARD
TZOFFSETFROM:-0400
TZOFFSETTO:-0500
TZNAME:EST
DTSTART:20251102T060000
END:STANDARD
BEGIN:DAYLIGHT
TZOFFSETFROM:-0500
TZOFFSETTO:-0400
TZNAME:EDT
DTSTART:20260308T070000
END:DAYLIGHT
BEGIN:STANDARD
TZOFFSETFROM:-0400
TZOFFSETTO:-0500
TZNAME:EST
DTSTART:20261101T060000
END:STANDARD
BEGIN:DAYLIGHT
TZOFFSETFROM:-0500
TZOFFSETTO:-0400
TZNAME:EDT
DTSTART:20270314T070000
END:DAYLIGHT
BEGIN:STANDARD
TZOFFSETFROM:-0400
TZOFFSETTO:-0500
TZNAME:EST
DTSTART:20271107T060000
END:STANDARD
END:VTIMEZONE
BEGIN:VEVENT
DTSTART;TZID=America/New_York:20260823T150000
DTEND;TZID=America/New_York:20260823T150000
DTSTAMP:20260424T202800
CREATED:20260311T154319Z
LAST-MODIFIED:20260311T154319Z
UID:10000544-1787497200-1787497200@heartofthecivilwar.org
SUMMARY:Music on the Millrace: Hayden Shaw and This Side of Pleasant
DESCRIPTION:Music on the Millrace offers a relaxed\, inviting opportunity for members and friends to come out to enjoy the authentic beauty of the site\, separate from our other major events. \nThis is a great time to enjoy an afternoon on the beautiful grounds of the Union Mills Homestead. Admission to the event is only $10. Under 12 are free! Food\, beer and wine will be available to purchase. Please bring a chair or blanket to sit on. No outside alcohol may be brought into the event. Because we have to inspect any containers to ensure there is no alcohol\, please refrain from bringing backpacks or coolers\, although you are welcome to bring your own snacks. \nHayden Shaw and This Side of Pleasant \nHailing from right down the road\, Hayden Shaw and his band This Side of Pleasant (as in Pleasant Valley) is thrilled to be back for another great day of Bluegrass! Hayden Shaw & This Side of Pleasant is a high-energy Bluegrass group comprised of some of Hayden’s best friends in Bluegrass. Last March they broke the attendance record for a Wehrly’s Auction House “Pickin’ and Biddin’” show. Hayden pulls from a wide array of influences and music genres to bring a fun and exciting bluegrass show that you won’t want to miss!
URL:https://heartofthecivilwar.org/event/music-on-the-millrace-hayden-shaw-and-this-side-of-pleasant-2/
LOCATION:The Union Mills Homestead\, 3311 Littlestown Pike\, Westminster\, MD\, 21158\, United States
CATEGORIES:Ongoing
ATTACH;FMTTYPE=image/jpeg:https://heartofthecivilwar.org/wp-content/uploads/2025/07/506044578_1312482517552971_9075649405571672938_n-e1752087130577.jpg
END:VEVENT
END:VCALENDAR