BEGIN:VCALENDAR
VERSION:2.0
PRODID:-//Heart of the Civil War - ECPv6.15.20//NONSGML v1.0//EN
CALSCALE:GREGORIAN
METHOD:PUBLISH
X-ORIGINAL-URL:https://heartofthecivilwar.org
X-WR-CALDESC:Events for Heart of the Civil War
REFRESH-INTERVAL;VALUE=DURATION:PT1H
X-Robots-Tag:noindex
X-PUBLISHED-TTL:PT1H
BEGIN:VTIMEZONE
TZID:America/New_York
BEGIN:DAYLIGHT
TZOFFSETFROM:-0500
TZOFFSETTO:-0400
TZNAME:EDT
DTSTART:20250309T070000
END:DAYLIGHT
BEGIN:STANDARD
TZOFFSETFROM:-0400
TZOFFSETTO:-0500
TZNAME:EST
DTSTART:20251102T060000
END:STANDARD
BEGIN:DAYLIGHT
TZOFFSETFROM:-0500
TZOFFSETTO:-0400
TZNAME:EDT
DTSTART:20260308T070000
END:DAYLIGHT
BEGIN:STANDARD
TZOFFSETFROM:-0400
TZOFFSETTO:-0500
TZNAME:EST
DTSTART:20261101T060000
END:STANDARD
BEGIN:DAYLIGHT
TZOFFSETFROM:-0500
TZOFFSETTO:-0400
TZNAME:EDT
DTSTART:20270314T070000
END:DAYLIGHT
BEGIN:STANDARD
TZOFFSETFROM:-0400
TZOFFSETTO:-0500
TZNAME:EST
DTSTART:20271107T060000
END:STANDARD
END:VTIMEZONE
BEGIN:VEVENT
DTSTART;TZID=America/New_York:20260120T120000
DTEND;TZID=America/New_York:20260120T120000
DTSTAMP:20260425T202533
CREATED:20251222T205527Z
LAST-MODIFIED:20251222T205527Z
UID:10000456-1768910400-1768910400@heartofthecivilwar.org
SUMMARY:Box Lunch Talk: The Miller’s Apprentice: The Murder of Abraham Lynn and the Execution of Joseph Davis Presented by Dave Owings
DESCRIPTION:Joseph Davis\, 22 years old\, murdered his friend and employer Abraham Lynn on April 5th\, 1872. Lynn was a husband and father\, a prosperous businessman\, and just shy of his 28th birthday. The murder resulted in two trials\, several hearings by the Court of Appeals\, the State Legislature\, and ultimately ended with Governor Pinkney Whyte interviewing witnesses himself. The final act in this story was the dramatic execution of Joe Davis before a crowd of thousands behind the old jail in Westminster. This tragic episode is a precedent – setting legal case and a peek into the lives of average Carroll Countians in the 1870’s. \nDave Owings was born and raised in Carroll County. He was a public school teacher for 30 years in Baltimore and Carroll Counties\, most recently at South Carroll High School. He is currently an adjunct English professor at Carroll Community College. He has two adult daughters and lives in Finksburg with his wife\, Lucy\, and his dog\, Roscoe. \n**NOTE** – As of January 2026\, our Box Lunch Talks are moving to the Society. All Box Lunch Talks will be at 210 E. Main Street in the auditorium and exhibit space. Parking is available in our back parking lot\, behind Ascension Church in the municipal lot (off of Ralph Street)\, and on Main Street. Some Main Street parking is metered and some is free. As always\, there is no registration for Box Lunch Talks. You bring your lunch\, and we provide the drinks and desserts (thanks to our volunteers and staff). The cost is $3 for HSCC members and $5 for nonmembers.
URL:https://heartofthecivilwar.org/event/box-lunch-talk-the-millers-apprentice-the-murder-of-abraham-lynn-and-the-execution-of-joseph-davis-presented-by-dave-owings/
LOCATION:Historical Society of Carroll County\, 210 E. Main Street\, Westminster\, MD\, 21157\, United States
CATEGORIES:Ongoing
ATTACH;FMTTYPE=image/jpeg:https://heartofthecivilwar.org/wp-content/uploads/2025/12/694972674a896-e1766436731940.jpg
END:VEVENT
END:VCALENDAR